BEGIN:VCALENDAR
CALSCALE:GREGORIAN
METHOD:PUBLISH
PRODID:-//5.199.133.97//NONSGML iCalcreator 2.6//
VERSION:2.0
UNIQUE_ID:event1157@Йога секреты
X-WR-TIMEZONE:Asia/Baku
BEGIN:VEVENT
UID:event1157@Йога секреты
DTSTAMP:20260420T191440Z
CATEGORIES:Путешествие
DESCRIPTION:Йога тур в Индию 'Практика в местах
  Будды'\nТип события: Путешествие\nСсылка:
  https://yogasecrets.ru/index.php?option=com_eventlist&view=details&id=115
 7:----q---q&Itemid=117\n
DTSTART;VALUE=DATE:20151114
DTEND;VALUE=DATE:20151123
LOCATION:
SUMMARY:Йога тур в Индию 'Практика в местах Б
 дды'
URL:https://yogasecrets.ru/index.php?option=com_eventlist&view=details&id=1
 157:----q---q&Itemid=117
END:VEVENT
END:VCALENDAR
