BEGIN:VCALENDAR
CALSCALE:GREGORIAN
METHOD:PUBLISH
PRODID:-//5.199.133.97//NONSGML iCalcreator 2.6//
VERSION:2.0
UNIQUE_ID:event1159@Йога секреты
X-WR-TIMEZONE:Asia/Baku
BEGIN:VEVENT
UID:event1159@Йога секреты
DTSTAMP:20260421T090745Z
CATEGORIES:Путешествие
DESCRIPTION:Законы судьбы и гармоничной жизни
 \nТип события: Путешествие\nСсылка: https://yog
 asecrets.ru/index.php?option=com_eventlist&view=details&id=1159:----&Itemi
 d=117\n
DTSTART;TZID=Asia/Baku:20150718T072900
DTEND;TZID=Asia/Baku:20150627T072900
LOCATION:
SUMMARY:Законы судьбы и гармоничной жизни
URL:https://yogasecrets.ru/index.php?option=com_eventlist&view=details&id=1
 159:----&Itemid=117
END:VEVENT
END:VCALENDAR
