BEGIN:VCALENDAR
CALSCALE:GREGORIAN
METHOD:PUBLISH
PRODID:-//5.199.133.97//NONSGML iCalcreator 2.6//
VERSION:2.0
UNIQUE_ID:event1160@Йога секреты
X-WR-TIMEZONE:Asia/Baku
BEGIN:VEVENT
UID:event1160@Йога секреты
DTSTAMP:20260421T055152Z
CATEGORIES:Путешествие
DESCRIPTION:Йога + Детокс Путешествие на о.Бали
 \nТип события: Путешествие\nСсылка: https://yog
 asecrets.ru/index.php?option=com_eventlist&view=details&id=1160:-----&Item
 id=117\n
DTSTART;VALUE=DATE:20150907
DTEND;VALUE=DATE:20150918
LOCATION:
SUMMARY:Йога + Детокс Путешествие на о.Бали
URL:https://yogasecrets.ru/index.php?option=com_eventlist&view=details&id=1
 160:-----&Itemid=117
END:VEVENT
END:VCALENDAR
