BEGIN:VCALENDAR
CALSCALE:GREGORIAN
METHOD:PUBLISH
PRODID:-//5.199.133.97//NONSGML iCalcreator 2.6//
VERSION:2.0
UNIQUE_ID:event1177@Йога секреты
X-WR-TIMEZONE:Asia/Baku
BEGIN:VEVENT
UID:event1177@Йога секреты
DTSTAMP:20260421T055327Z
CATEGORIES:Путешествие
DESCRIPTION:Яхтенное йога-путешествие в Греци
  03-10.09.15\nТип события: Путешествие\nСсылка
 : https://yogasecrets.ru/index.php?option=com_eventlist&view=details&id=11
 77:-----03-100915&Itemid=117\n
DTSTART;VALUE=DATE:20150903
DTEND;VALUE=DATE:20150911
LOCATION:Греция\,о. Корфу\,Greece
SUMMARY:Яхтенное йога-путешествие в Греции 03
 -10.09.15
URL:https://yogasecrets.ru/index.php?option=com_eventlist&view=details&id=1
 177:-----03-100915&Itemid=117
END:VEVENT
END:VCALENDAR
