BEGIN:VCALENDAR
CALSCALE:GREGORIAN
METHOD:PUBLISH
PRODID:-//5.199.133.97//NONSGML iCalcreator 2.6//
VERSION:2.0
UNIQUE_ID:event1238@Йога секреты
X-WR-TIMEZONE:Asia/Baku
BEGIN:VEVENT
UID:event1238@Йога секреты
DTSTAMP:20260421T023428Z
CATEGORIES:Путешествие
DESCRIPTION:Йога-аюрведа туры в Индию\nТип собы
 тия: Путешествие\nСсылка: https://yogasecrets.ru/index
 .php?option=com_eventlist&view=details&id=1238:----&Itemid=117\n
DTSTART;TZID=Asia/Baku:20150921T100000
DTEND;TZID=Asia/Baku:20160515T220000
LOCATION:Индия\,Ришикеш\,India
SUMMARY:Йога-аюрведа туры в Индию
URL:https://yogasecrets.ru/index.php?option=com_eventlist&view=details&id=1
 238:----&Itemid=117
END:VEVENT
END:VCALENDAR
