BEGIN:VCALENDAR
CALSCALE:GREGORIAN
METHOD:PUBLISH
PRODID:-//5.199.133.97//NONSGML iCalcreator 2.6//
VERSION:2.0
UNIQUE_ID:event1275@Йога секреты
X-WR-TIMEZONE:Asia/Baku
BEGIN:VEVENT
UID:event1275@Йога секреты
DTSTAMP:20260421T054118Z
CATEGORIES:Путешествие
DESCRIPTION:Разумное тело\nТип события: Путеше
 твие\nСсылка: https://yogasecrets.ru/index.php?option=com_event
 list&view=details&id=1275:-&Itemid=117\n
DTSTART;VALUE=DATE:20150828
DTEND;VALUE=DATE:20150906
LOCATION:Всероссийский детский центр Орлёно
  \,Туапсинский р-н\,Russian Federation
SUMMARY:Разумное тело
URL:https://yogasecrets.ru/index.php?option=com_eventlist&view=details&id=1
 275:-&Itemid=117
END:VEVENT
END:VCALENDAR
