BEGIN:VCALENDAR
CALSCALE:GREGORIAN
METHOD:PUBLISH
PRODID:-//5.199.133.97//NONSGML iCalcreator 2.6//
VERSION:2.0
UNIQUE_ID:event1297@Йога секреты
X-WR-TIMEZONE:Asia/Baku
BEGIN:VEVENT
UID:event1297@Йога секреты
DTSTAMP:20260421T004633Z
CATEGORIES:Путешествие
DESCRIPTION:Трансформационный йога ретрит\nТи
  события: Путешествие\nСсылка: https://yogasecret
 s.ru/index.php?option=com_eventlist&view=details&id=1297:--&Itemid=117\n
DTSTART;VALUE=DATE:20151020
DTEND;VALUE=DATE:20151105
LOCATION:Индия\,Ришикеш\,India
SUMMARY:Трансформационный йога ретрит
URL:https://yogasecrets.ru/index.php?option=com_eventlist&view=details&id=1
 297:--&Itemid=117
END:VEVENT
END:VCALENDAR
