BEGIN:VCALENDAR
CALSCALE:GREGORIAN
METHOD:PUBLISH
PRODID:-//5.199.133.97//NONSGML iCalcreator 2.6//
VERSION:2.0
UNIQUE_ID:event1324@Йога секреты
X-WR-TIMEZONE:Asia/Baku
BEGIN:VEVENT
UID:event1324@Йога секреты
DTSTAMP:20260420T201758Z
CATEGORIES:Путешествие
DESCRIPTION:Новый год в Таиланде: море\, солнце\
 , и…Вводный курс по йоге!\nТип события: Пу
 тешествие\nСсылка: https://yogasecrets.ru/index.php?option=
 com_eventlist&view=details&id=1324:---------&Itemid=117\n
DTSTART;TZID=Asia/Baku:20160101T080000
DTEND;TZID=Asia/Baku:20160110T190000
LOCATION:о. Пхукет\,Samakkee 4\,Пхукет\,Thailand
SUMMARY:Новый год в Таиланде: море\, солнце\, и
 …Вводный курс по йоге!
URL:https://yogasecrets.ru/index.php?option=com_eventlist&view=details&id=1
 324:---------&Itemid=117
END:VEVENT
END:VCALENDAR
