BEGIN:VCALENDAR
CALSCALE:GREGORIAN
METHOD:PUBLISH
PRODID:-//5.199.133.97//NONSGML iCalcreator 2.6//
VERSION:2.0
UNIQUE_ID:event1325@Йога секреты
X-WR-TIMEZONE:Asia/Baku
BEGIN:VEVENT
UID:event1325@Йога секреты
DTSTAMP:20260420T162248Z
CATEGORIES:Путешествие
DESCRIPTION:LUXURYoga — йога путешествие на Сейшел
 ьские острова\nТип события: Путешествие\n
 Ссылка: https://yogasecrets.ru/index.php?option=com_eventlist&view=d
 etails&id=1325:luxuryoga------&Itemid=117\n
DTSTART;VALUE=DATE:20160104
DTEND;VALUE=DATE:20160117
LOCATION:Сейшелы\, о. Маэ\,Seychelles
SUMMARY:LUXURYoga — йога путешествие на Сейшельс
 кие острова
URL:https://yogasecrets.ru/index.php?option=com_eventlist&view=details&id=1
 325:luxuryoga------&Itemid=117
END:VEVENT
END:VCALENDAR
