BEGIN:VCALENDAR
CALSCALE:GREGORIAN
METHOD:PUBLISH
PRODID:-//5.199.133.97//NONSGML iCalcreator 2.6//
VERSION:2.0
UNIQUE_ID:event1348@Йога секреты
X-WR-TIMEZONE:Asia/Baku
BEGIN:VEVENT
UID:event1348@Йога секреты
DTSTAMP:20260421T023439Z
CATEGORIES:Путешествие
DESCRIPTION:Шантитур Тайланд 15-25 октября 2015\nТи
 п события: Путешествие\nСсылка: https://yogasecre
 ts.ru/index.php?option=com_eventlist&view=details&id=1348:--15-25--2015&It
 emid=117\n
DTSTART;VALUE=DATE:20151015
DTEND;VALUE=DATE:20151026
LOCATION:
SUMMARY:Шантитур Тайланд 15-25 октября 2015
URL:https://yogasecrets.ru/index.php?option=com_eventlist&view=details&id=1
 348:--15-25--2015&Itemid=117
END:VEVENT
END:VCALENDAR
