BEGIN:VCALENDAR
CALSCALE:GREGORIAN
METHOD:PUBLISH
PRODID:-//5.199.133.97//NONSGML iCalcreator 2.6//
VERSION:2.0
UNIQUE_ID:event1389@Йога секреты
X-WR-TIMEZONE:Asia/Baku
BEGIN:VEVENT
UID:event1389@Йога секреты
DTSTAMP:20260420T191239Z
CATEGORIES:Путешествие
DESCRIPTION:Экскурсионный тур + йога по Индии\n
 ип события: Путешествие\nСсылка: https://yogase
 crets.ru/index.php?option=com_eventlist&view=details&id=1389:-----&Itemid=
 117\n
DTSTART;VALUE=DATE:20151201
DTEND;VALUE=DATE:20151215
LOCATION:Индия\,Ришикеш\,India
SUMMARY:Экскурсионный тур + йога по Индии
URL:https://yogasecrets.ru/index.php?option=com_eventlist&view=details&id=1
 389:-----&Itemid=117
END:VEVENT
END:VCALENDAR
