BEGIN:VCALENDAR
CALSCALE:GREGORIAN
METHOD:PUBLISH
PRODID:-//5.199.133.97//NONSGML iCalcreator 2.6//
VERSION:2.0
UNIQUE_ID:event1396@Йога секреты
X-WR-TIMEZONE:Asia/Baku
BEGIN:VEVENT
UID:event1396@Йога секреты
DTSTAMP:20260420T132534Z
CATEGORIES:Путешествие
DESCRIPTION:Йога-тур на океане 'Меняем жизнь к 
 учшему!'\, Гокарна\, Индия\nТип события: Пу
 тешествие\nСсылка: https://yogasecrets.ru/index.php?option=
 com_eventlist&view=details&id=1396:----q---q--&Itemid=117\n
DTSTART;VALUE=DATE:20160131
DTEND;VALUE=DATE:20160214
LOCATION:Гокарна\, Индия\,Гокарна\,India
SUMMARY:Йога-тур на океане 'Меняем жизнь к лу
 шему!'\, Гокарна\, Индия
URL:https://yogasecrets.ru/index.php?option=com_eventlist&view=details&id=1
 396:----q---q--&Itemid=117
END:VEVENT
END:VCALENDAR
