BEGIN:VCALENDAR
CALSCALE:GREGORIAN
METHOD:PUBLISH
PRODID:-//5.199.133.97//NONSGML iCalcreator 2.6//
VERSION:2.0
UNIQUE_ID:event1413@Йога секреты
X-WR-TIMEZONE:Asia/Baku
BEGIN:VEVENT
UID:event1413@Йога секреты
DTSTAMP:20260420T161440Z
CATEGORIES:Путешествие
DESCRIPTION:НОВОГОДНИЙ КВЕСТ-ЙОГА-ТУР «ТАЙНЫ К
 РАЙНЕГО СЕВЕРА»\nТип события: Путешестви
 е\nСсылка: https://yogasecrets.ru/index.php?option=com_eventlist&vi
 ew=details&id=1413:----l--r&Itemid=117\n
DTSTART;TZID=Asia/Baku:20151231T090000
DTEND;TZID=Asia/Baku:20160108T090000
LOCATION:
SUMMARY:НОВОГОДНИЙ КВЕСТ-ЙОГА-ТУР «ТАЙНЫ КРА
 ЙНЕГО СЕВЕРА»
URL:https://yogasecrets.ru/index.php?option=com_eventlist&view=details&id=1
 413:----l--r&Itemid=117
END:VEVENT
END:VCALENDAR
