BEGIN:VCALENDAR
CALSCALE:GREGORIAN
METHOD:PUBLISH
PRODID:-//5.199.133.97//NONSGML iCalcreator 2.6//
VERSION:2.0
UNIQUE_ID:event1414@Йога секреты
X-WR-TIMEZONE:Asia/Baku
BEGIN:VEVENT
UID:event1414@Йога секреты
DTSTAMP:20260420T145105Z
CATEGORIES:Путешествие
DESCRIPTION:КВЕСТ-ЙОГА-ТУР «ЗАГАДОЧНЫЕ РУНЫ В 
 ЕРАЛЕ»\nТип события: Путешествие\nСсылка
 : https://yogasecrets.ru/index.php?option=com_eventlist&view=details&id=14
 14:---l---r&Itemid=117\n
DTSTART;TZID=Asia/Baku:20160124T090000
DTEND;TZID=Asia/Baku:20160205T090000
LOCATION:
SUMMARY:КВЕСТ-ЙОГА-ТУР «ЗАГАДОЧНЫЕ РУНЫ В КЕ
 АЛЕ»
URL:https://yogasecrets.ru/index.php?option=com_eventlist&view=details&id=1
 414:---l---r&Itemid=117
END:VEVENT
END:VCALENDAR
