BEGIN:VCALENDAR
CALSCALE:GREGORIAN
METHOD:PUBLISH
PRODID:-//5.199.133.97//NONSGML iCalcreator 2.6//
VERSION:2.0
UNIQUE_ID:event1481@Йога секреты
X-WR-TIMEZONE:Asia/Baku
BEGIN:VEVENT
UID:event1481@Йога секреты
DTSTAMP:20260420T161115Z
CATEGORIES:Путешествие
DESCRIPTION:Волшебное Путешествие в Индию 18 ян
 варя 2016\nТип события: Путешествие\nСсылка
 : https://yogasecrets.ru/index.php?option=com_eventlist&view=details&id=14
 81:----18--2016&Itemid=117\n
DTSTART;VALUE=DATE:20160118
DTEND;VALUE=DATE:20160128
LOCATION:Северный Гоа\, пляж Мандрем\,India
SUMMARY:Волшебное Путешествие в Индию 18 янва
 ря 2016
URL:https://yogasecrets.ru/index.php?option=com_eventlist&view=details&id=1
 481:----18--2016&Itemid=117
END:VEVENT
END:VCALENDAR
