BEGIN:VCALENDAR
CALSCALE:GREGORIAN
METHOD:PUBLISH
PRODID:-//5.199.133.97//NONSGML iCalcreator 2.6//
VERSION:2.0
UNIQUE_ID:event1537@Йога секреты
X-WR-TIMEZONE:Asia/Baku
BEGIN:VEVENT
UID:event1537@Йога секреты
DTSTAMP:20260420T131351Z
CATEGORIES:Путешествие
DESCRIPTION:Тур-перезагрузка в Индию\nТип собы
 ия: Путешествие\nСсылка: https://yogasecrets.ru/index.
 php?option=com_eventlist&view=details&id=1537:---&Itemid=117\n
DTSTART;VALUE=DATE:20160225
DTEND;VALUE=DATE:20160306
LOCATION:ГОА\, Индия\,ГОА\,India
SUMMARY:Тур-перезагрузка в Индию
URL:https://yogasecrets.ru/index.php?option=com_eventlist&view=details&id=1
 537:---&Itemid=117
END:VEVENT
END:VCALENDAR
