BEGIN:VCALENDAR
CALSCALE:GREGORIAN
METHOD:PUBLISH
PRODID:-//5.199.133.97//NONSGML iCalcreator 2.6//
VERSION:2.0
UNIQUE_ID:event1562@Йога секреты
X-WR-TIMEZONE:Asia/Baku
BEGIN:VEVENT
UID:event1562@Йога секреты
DTSTAMP:20260420T103010Z
CATEGORIES:Путешествие
DESCRIPTION:Йога-тур в Шри-Ланку с Вероникой Во
 лковой\nТип события: Путешествие\nСсылка:
  https://yogasecrets.ru/index.php?option=com_eventlist&view=details&id=156
 2:-------&Itemid=117\n
DTSTART;VALUE=DATE:20160314
DTEND;VALUE=DATE:20160326
LOCATION:Шри Ланка\,Мирисса\,Sri Lanka
SUMMARY:Йога-тур в Шри-Ланку с Вероникой Волк
 овой
URL:https://yogasecrets.ru/index.php?option=com_eventlist&view=details&id=1
 562:-------&Itemid=117
END:VEVENT
END:VCALENDAR
