BEGIN:VCALENDAR
CALSCALE:GREGORIAN
METHOD:PUBLISH
PRODID:-//5.199.133.97//NONSGML iCalcreator 2.6//
VERSION:2.0
UNIQUE_ID:event1565@Йога секреты
X-WR-TIMEZONE:Asia/Baku
BEGIN:VEVENT
UID:event1565@Йога секреты
DTSTAMP:20260422T110901Z
CATEGORIES:Путешествие
DESCRIPTION:Весенний ТУР-ПЕРЕЗАГРУЗКА в Индию 
 (телесные практики + йога)\nТип события: П
 тешествие\nСсылка: https://yogasecrets.ru/index.php?option
 =com_eventlist&view=details&id=1565:--------&Itemid=117\n
DTSTART;TZID=Asia/Baku:20160323T100000
DTEND;TZID=Asia/Baku:20160403T100000
LOCATION:
SUMMARY:Весенний ТУР-ПЕРЕЗАГРУЗКА в Индию (т
 лесные практики + йога)
URL:https://yogasecrets.ru/index.php?option=com_eventlist&view=details&id=1
 565:--------&Itemid=117
END:VEVENT
END:VCALENDAR
