BEGIN:VCALENDAR
CALSCALE:GREGORIAN
METHOD:PUBLISH
PRODID:-//5.199.133.97//NONSGML iCalcreator 2.6//
VERSION:2.0
UNIQUE_ID:event1598@Йога секреты
X-WR-TIMEZONE:Asia/Baku
BEGIN:VEVENT
UID:event1598@Йога секреты
DTSTAMP:20260420T102836Z
CATEGORIES:Путешествие
DESCRIPTION:Индивидуальный йога тур на Бали «Cl
 ear Time»\nТип события: Путешествие\nСсылка: h
 ttps://yogasecrets.ru/index.php?option=com_eventlist&view=details&id=1598:
 -----lclear-timer&Itemid=117\n
DTSTART;VALUE=DATE:20160326
DTEND;VALUE=DATE:20170322
LOCATION:Бали\,Танджун-Беноа\,Indonesia
SUMMARY:Индивидуальный йога тур на Бали «Clear 
 Time»
URL:https://yogasecrets.ru/index.php?option=com_eventlist&view=details&id=1
 598:-----lclear-timer&Itemid=117
END:VEVENT
END:VCALENDAR
