BEGIN:VCALENDAR
CALSCALE:GREGORIAN
METHOD:PUBLISH
PRODID:-//5.199.133.97//NONSGML iCalcreator 2.6//
VERSION:2.0
UNIQUE_ID:event1613@Йога секреты
X-WR-TIMEZONE:Asia/Baku
BEGIN:VEVENT
UID:event1613@Йога секреты
DTSTAMP:20260420T103102Z
CATEGORIES:Путешествие
DESCRIPTION:«Хатха-йога с Алексеем Гагариным» 
 каждый понедельник и среду\nТип события: 
 Путешествие\nСсылка: https://yogasecrets.ru/index.php?opt
 ion=com_eventlist&view=details&id=1613:l----r----&Itemid=117\n
DTSTART;TZID=Asia/Baku:20160411T190000
DTEND;TZID=Asia/Baku:20160411T210000
LOCATION:Пространство СкаFUNдр\,Загородный пр
 спект\, 22\,Санкт-Петербург \,Russian Federation
SUMMARY:«Хатха-йога с Алексеем Гагариным» ка
 ждый понедельник и среду
URL:https://yogasecrets.ru/index.php?option=com_eventlist&view=details&id=1
 613:l----r----&Itemid=117
END:VEVENT
END:VCALENDAR
