BEGIN:VCALENDAR
CALSCALE:GREGORIAN
METHOD:PUBLISH
PRODID:-//5.199.133.97//NONSGML iCalcreator 2.6//
VERSION:2.0
UNIQUE_ID:event1614@Йога секреты
X-WR-TIMEZONE:Asia/Baku
BEGIN:VEVENT
UID:event1614@Йога секреты
DTSTAMP:20260420T114014Z
CATEGORIES:Путешествие
DESCRIPTION:«Хатха-йога с Андреем Попенко» каж
 дый четверг и воскресенье\nТип события: П
 утешествие\nСсылка: https://yogasecrets.ru/index.php?optio
 n=com_eventlist&view=details&id=1614:l----r----&Itemid=117\n
DTSTART;TZID=Asia/Baku:20160414T190000
DTEND;TZID=Asia/Baku:20160414T210000
LOCATION:Пространство СкаFUNдр\,Загородный пр
 спект\, 22\,Санкт-Петербург \,Russian Federation
SUMMARY:«Хатха-йога с Андреем Попенко» кажды
 й четверг и воскресенье
URL:https://yogasecrets.ru/index.php?option=com_eventlist&view=details&id=1
 614:l----r----&Itemid=117
END:VEVENT
END:VCALENDAR
