BEGIN:VCALENDAR
CALSCALE:GREGORIAN
METHOD:PUBLISH
PRODID:-//5.199.133.97//NONSGML iCalcreator 2.6//
VERSION:2.0
UNIQUE_ID:event538@Йога секреты
X-WR-TIMEZONE:Asia/Baku
BEGIN:VEVENT
UID:event538@Йога секреты
DTSTAMP:20260422T220539Z
CATEGORIES:Путешествие
DESCRIPTION:Йога тур в Индию - Непал ПУТЕШЕСТВИ
 Е ПО МЕСТАМ БУДДЫ\nТип события: Путешеств
 ие\nСсылка: https://yogasecrets.ru/index.php?option=com_eventlist&
 view=details&id=538:--------&Itemid=117\n
DTSTART;VALUE=DATE:20150104
DTEND;VALUE=DATE:20150119
LOCATION:Клуб OUM\,Москва\,Russian Federation
SUMMARY:Йога тур в Индию - Непал ПУТЕШЕСТВИЕ 
 О МЕСТАМ БУДДЫ
URL:https://yogasecrets.ru/index.php?option=com_eventlist&view=details&id=5
 38:--------&Itemid=117
END:VEVENT
END:VCALENDAR
