BEGIN:VCALENDAR
CALSCALE:GREGORIAN
METHOD:PUBLISH
PRODID:-//5.199.133.97//NONSGML iCalcreator 2.6//
VERSION:2.0
UNIQUE_ID:event625@Йога секреты
X-WR-TIMEZONE:Asia/Baku
BEGIN:VEVENT
UID:event625@Йога секреты
DTSTAMP:20260421T120925Z
CATEGORIES:Путешествие
DESCRIPTION:Большая экспедиция Тибет - Непал\nТ
 ип события: Путешествие\nСсылка: https://yogasec
 rets.ru/index.php?option=com_eventlist&view=details&id=625:---&Itemid=117
 \n
DTSTART;VALUE=DATE:20150530
DTEND;VALUE=DATE:20150622
LOCATION:Клуб OUM\,Москва\,Russian Federation
SUMMARY:Большая экспедиция Тибет - Непал
URL:https://yogasecrets.ru/index.php?option=com_eventlist&view=details&id=6
 25:---&Itemid=117
END:VEVENT
END:VCALENDAR
