BEGIN:VCALENDAR
CALSCALE:GREGORIAN
METHOD:PUBLISH
PRODID:-//5.199.133.97//NONSGML iCalcreator 2.6//
VERSION:2.0
UNIQUE_ID:event636@Йога секреты
X-WR-TIMEZONE:Asia/Baku
BEGIN:VEVENT
UID:event636@Йога секреты
DTSTAMP:20260421T172259Z
CATEGORIES:Путешествие
DESCRIPTION:ЙОГА ПУТЕШЕСТВИЕ в ЧИРАЛИ\, Турция!
 \nТип события: Путешествие\nСсылка: https://yog
 asecrets.ru/index.php?option=com_eventlist&view=details&id=636:----&Itemid
 =117\n
DTSTART;VALUE=DATE:20140518
DTEND;VALUE=DATE:20140529
LOCATION:Melisa Hotel\,Чирали\,Turkey
SUMMARY:ЙОГА ПУТЕШЕСТВИЕ в ЧИРАЛИ\, Турция!
URL:https://yogasecrets.ru/index.php?option=com_eventlist&view=details&id=6
 36:----&Itemid=117
END:VEVENT
END:VCALENDAR
