BEGIN:VCALENDAR
CALSCALE:GREGORIAN
METHOD:PUBLISH
PRODID:-//5.199.133.97//NONSGML iCalcreator 2.6//
VERSION:2.0
UNIQUE_ID:event653@Йога секреты
X-WR-TIMEZONE:Asia/Baku
BEGIN:VEVENT
UID:event653@Йога секреты
DTSTAMP:20260421T172305Z
CATEGORIES:Путешествие
DESCRIPTION:Йога тур в Черногорию с Александро
 м Таишевым\nТип события: Путешествие\nСсы
 лка: https://yogasecrets.ru/index.php?option=com_eventlist&view=details
 &id=653:------&Itemid=117\n
DTSTART;VALUE=DATE:20140615
DTEND;VALUE=DATE:20140627
LOCATION:
SUMMARY:Йога тур в Черногорию с Александром 
 аишевым
URL:https://yogasecrets.ru/index.php?option=com_eventlist&view=details&id=6
 53:------&Itemid=117
END:VEVENT
END:VCALENDAR
