BEGIN:VCALENDAR
CALSCALE:GREGORIAN
METHOD:PUBLISH
PRODID:-//5.199.133.97//NONSGML iCalcreator 2.6//
VERSION:2.0
UNIQUE_ID:event654@Йога секреты
X-WR-TIMEZONE:Asia/Baku
BEGIN:VEVENT
UID:event654@Йога секреты
DTSTAMP:20260421T204109Z
CATEGORIES:Путешествие
DESCRIPTION:Йога тур на Иссык-Куле 25 августа по
  5 сентября\nТип события: Путешествие\nСсы
 лка: https://yogasecrets.ru/index.php?option=com_eventlist&view=details
 &id=654:-----25---5-&Itemid=117\n
DTSTART;VALUE=DATE:20140825
DTEND;VALUE=DATE:20140906
LOCATION:Иссык-Куль
SUMMARY:Йога тур на Иссык-Куле 25 августа по 5 
 ентября
URL:https://yogasecrets.ru/index.php?option=com_eventlist&view=details&id=6
 54:-----25---5-&Itemid=117
END:VEVENT
END:VCALENDAR
