BEGIN:VCALENDAR
CALSCALE:GREGORIAN
METHOD:PUBLISH
PRODID:-//5.199.133.97//NONSGML iCalcreator 2.6//
VERSION:2.0
UNIQUE_ID:event658@Йога секреты
X-WR-TIMEZONE:Asia/Baku
BEGIN:VEVENT
UID:event658@Йога секреты
DTSTAMP:20260422T013630Z
CATEGORIES:Путешествие
DESCRIPTION:Йога тур в Индию ПРАКТИКА В МЕСТАХ 
 БУДДЫ\nТип события: Путешествие\nСсылка: h
 ttps://yogasecrets.ru/index.php?option=com_eventlist&view=details&id=658:-
 ------&Itemid=117\n
DTSTART;VALUE=DATE:20141122
DTEND;VALUE=DATE:20141201
LOCATION:Клуб OUM\,Москва\,Russian Federation
SUMMARY:Йога тур в Индию ПРАКТИКА В МЕСТАХ БУ
 ДДЫ
URL:https://yogasecrets.ru/index.php?option=com_eventlist&view=details&id=6
 58:-------&Itemid=117
END:VEVENT
END:VCALENDAR
