BEGIN:VCALENDAR
CALSCALE:GREGORIAN
METHOD:PUBLISH
PRODID:-//5.199.133.97//NONSGML iCalcreator 2.6//
VERSION:2.0
UNIQUE_ID:event669@Йога секреты
X-WR-TIMEZONE:Asia/Baku
BEGIN:VEVENT
UID:event669@Йога секреты
DTSTAMP:20260421T172138Z
CATEGORIES:Путешествие
DESCRIPTION:Йога-тур :  «Открой свой ресурс»\nТи
 п события: Путешествие\nСсылка: https://yogasecre
 ts.ru/index.php?option=com_eventlist&view=details&id=669:---l--r&Itemid=11
 7\n
DTSTART;VALUE=DATE:20140627
DTEND;VALUE=DATE:20140709
LOCATION:Будва\, Черногория\,центр\,Будва\,Чер
 огория\,Montenegro
SUMMARY:Йога-тур :  «Открой свой ресурс»
URL:https://yogasecrets.ru/index.php?option=com_eventlist&view=details&id=6
 69:---l--r&Itemid=117
END:VEVENT
END:VCALENDAR
