BEGIN:VCALENDAR
CALSCALE:GREGORIAN
METHOD:PUBLISH
PRODID:-//5.199.133.97//NONSGML iCalcreator 2.6//
VERSION:2.0
UNIQUE_ID:event674@Йога секреты
X-WR-TIMEZONE:Asia/Baku
BEGIN:VEVENT
UID:event674@Йога секреты
DTSTAMP:20260422T221803Z
CATEGORIES:Путешествие
DESCRIPTION:Оздоровительный цигун-ретрит 'Быт
  в гармонии'. Черногория.\nТип события: Пу
 тешествие\nСсылка: https://yogasecrets.ru/index.php?option=
 com_eventlist&view=details&id=674:---q--q-&Itemid=117\n
DTSTART;VALUE=DATE:20140910
DTEND;VALUE=DATE:20140922
LOCATION:
SUMMARY:Оздоровительный цигун-ретрит 'Быть в
  гармонии'. Черногория.
URL:https://yogasecrets.ru/index.php?option=com_eventlist&view=details&id=6
 74:---q--q-&Itemid=117
END:VEVENT
END:VCALENDAR
