BEGIN:VCALENDAR
CALSCALE:GREGORIAN
METHOD:PUBLISH
PRODID:-//5.199.133.97//NONSGML iCalcreator 2.6//
VERSION:2.0
UNIQUE_ID:event677@Йога секреты
X-WR-TIMEZONE:Asia/Baku
BEGIN:VEVENT
UID:event677@Йога секреты
DTSTAMP:20260421T205906Z
CATEGORIES:Путешествие
DESCRIPTION:Путешествие по святым местам Севе
 ной Индии c учителем Свами\nТип события: 
 утешествие\nСсылка: https://yogasecrets.ru/index.php?opti
 on=com_eventlist&view=details&id=677:------c--&Itemid=117\n
DTSTART;VALUE=DATE:20140824
DTEND;VALUE=DATE:20140910
LOCATION:Центр 'Керала'\,Мичуринский проезд\, 
 ом 3 \,Москва
SUMMARY:Путешествие по святым местам Северн
 й Индии c учителем Свами
URL:https://yogasecrets.ru/index.php?option=com_eventlist&view=details&id=6
 77:------c--&Itemid=117
END:VEVENT
END:VCALENDAR
