BEGIN:VCALENDAR
CALSCALE:GREGORIAN
METHOD:PUBLISH
PRODID:-//5.199.133.97//NONSGML iCalcreator 2.6//
VERSION:2.0
UNIQUE_ID:event684@Йога секреты
X-WR-TIMEZONE:Asia/Baku
BEGIN:VEVENT
UID:event684@Йога секреты
DTSTAMP:20260421T204807Z
CATEGORIES:Путешествие
DESCRIPTION:Кундалини йога-тур в Крым с 'Домом 
 олнца'\nТип события: Путешествие\nСсылка:
  https://yogasecrets.ru/index.php?option=com_eventlist&view=details&id=684
 :------q-q&Itemid=117\n
DTSTART;VALUE=DATE:20140721
DTEND;VALUE=DATE:20140731
LOCATION:Крым\, пос.Андреевка\, 'Лето'\,Усадебн
 я\,пос.Андреевка\,Russian Federation
SUMMARY:Кундалини йога-тур в Крым с 'Домом Со
 нца'
URL:https://yogasecrets.ru/index.php?option=com_eventlist&view=details&id=6
 84:------q-q&Itemid=117
END:VEVENT
END:VCALENDAR
