BEGIN:VCALENDAR
CALSCALE:GREGORIAN
METHOD:PUBLISH
PRODID:-//5.199.133.97//NONSGML iCalcreator 2.6//
VERSION:2.0
UNIQUE_ID:event685@Йога секреты
X-WR-TIMEZONE:Asia/Baku
BEGIN:VEVENT
UID:event685@Йога секреты
DTSTAMP:20260421T205749Z
CATEGORIES:Путешествие
DESCRIPTION:'Йога и 'Счастье'' - тур с Филом Дунс
 им в Крым. 4-13 август\nТип события: Путеше
 твие\nСсылка: https://yogasecrets.ru/index.php?option=com_event
 list&view=details&id=685:q--qqq-------4-13-&Itemid=117\n
DTSTART;VALUE=DATE:20140804
DTEND;VALUE=DATE:20140814
LOCATION:Крым\, пос.Андреевка\, 'Лето'\,Усадебн
 я\,пос.Андреевка\,Russian Federation
SUMMARY:'Йога и 'Счастье'' - тур с Филом Дунски
  в Крым. 4-13 август
URL:https://yogasecrets.ru/index.php?option=com_eventlist&view=details&id=6
 85:q--qqq-------4-13-&Itemid=117
END:VEVENT
END:VCALENDAR
