BEGIN:VCALENDAR
CALSCALE:GREGORIAN
METHOD:PUBLISH
PRODID:-//5.199.133.97//NONSGML iCalcreator 2.6//
VERSION:2.0
UNIQUE_ID:event686@Йога секреты
X-WR-TIMEZONE:Asia/Baku
BEGIN:VEVENT
UID:event686@Йога секреты
DTSTAMP:20260421T172305Z
CATEGORIES:Путешествие
DESCRIPTION:Йога-семинар в предгорьях Кавказа 
 с Александром Таишевым. 4-\nТип события: П
 тешествие\nСсылка: https://yogasecrets.ru/index.php?option
 =com_eventlist&view=details&id=686:--------4-&Itemid=117\n
DTSTART;VALUE=DATE:20140704
DTEND;VALUE=DATE:20140712
LOCATION:
SUMMARY:Йога-семинар в предгорьях Кавказа с 
 лександром Таишевым. 4-
URL:https://yogasecrets.ru/index.php?option=com_eventlist&view=details&id=6
 86:--------4-&Itemid=117
END:VEVENT
END:VCALENDAR
