BEGIN:VCALENDAR
CALSCALE:GREGORIAN
METHOD:PUBLISH
PRODID:-//5.199.133.97//NONSGML iCalcreator 2.6//
VERSION:2.0
UNIQUE_ID:event697@Йога секреты
X-WR-TIMEZONE:Asia/Baku
BEGIN:VEVENT
UID:event697@Йога секреты
DTSTAMP:20260422T221715Z
CATEGORIES:Путешествие
DESCRIPTION:Йога-цигун-тур в Северную Индию «Т
 и подхода»\nТип события: Путешествие\nСс
 лка: https://yogasecrets.ru/index.php?option=com_eventlist&view=detail
 s&id=697:------l-r&Itemid=117\n
DTSTART;VALUE=DATE:20140910
DTEND;VALUE=DATE:20140922
LOCATION:Гималаи\,--\,Дхарамсала\,India
SUMMARY:Йога-цигун-тур в Северную Индию «Три 
 подхода»
URL:https://yogasecrets.ru/index.php?option=com_eventlist&view=details&id=6
 97:------l-r&Itemid=117
END:VEVENT
END:VCALENDAR
