BEGIN:VCALENDAR
CALSCALE:GREGORIAN
METHOD:PUBLISH
PRODID:-//5.199.133.97//NONSGML iCalcreator 2.6//
VERSION:2.0
UNIQUE_ID:event700@Йога секреты
X-WR-TIMEZONE:Asia/Baku
BEGIN:VEVENT
UID:event700@Йога секреты
DTSTAMP:20260422T011930Z
CATEGORIES:Путешествие
DESCRIPTION:Йога-семинар в Индии (Ришикеш) 30 ок
 ября-15 ноября 2014\nТип события: Путешеств
 е\nСсылка: https://yogasecrets.ru/index.php?option=com_eventlist&v
 iew=details&id=700:-----30--15--2014&Itemid=117\n
DTSTART;TZID=Asia/Baku:20141030T090000
DTEND;TZID=Asia/Baku:20141115T170000
LOCATION:Rishikesh\,Rishikesh\,India
SUMMARY:Йога-семинар в Индии (Ришикеш) 30 октя
 ря-15 ноября 2014
URL:https://yogasecrets.ru/index.php?option=com_eventlist&view=details&id=7
 00:-----30--15--2014&Itemid=117
END:VEVENT
END:VCALENDAR
