BEGIN:VCALENDAR
CALSCALE:GREGORIAN
METHOD:PUBLISH
PRODID:-//5.199.133.97//NONSGML iCalcreator 2.6//
VERSION:2.0
UNIQUE_ID:event71@Йога секреты
X-WR-TIMEZONE:Asia/Baku
BEGIN:VEVENT
UID:event71@Йога секреты
DTSTAMP:20260420T100721Z
CATEGORIES:Путешествие
DESCRIPTION:семинар йога и медитация в италии\n
 Тип события: Путешествие\nСсылка: https://yogas
 ecrets.ru/index.php?option=com_eventlist&view=details&id=71:-----&Itemid=1
 17\n
DTSTART;TZID=Asia/Baku:20120920T180000
DTEND;TZID=Asia/Baku:20120930T180000
LOCATION:
SUMMARY:семинар йога и медитация в италии
URL:https://yogasecrets.ru/index.php?option=com_eventlist&view=details&id=7
 1:-----&Itemid=117
END:VEVENT
END:VCALENDAR
