BEGIN:VCALENDAR
CALSCALE:GREGORIAN
METHOD:PUBLISH
PRODID:-//5.199.133.97//NONSGML iCalcreator 2.6//
VERSION:2.0
UNIQUE_ID:event727@Йога секреты
X-WR-TIMEZONE:Asia/Baku
BEGIN:VEVENT
UID:event727@Йога секреты
DTSTAMP:20260421T205927Z
CATEGORIES:Путешествие
DESCRIPTION:'Крыша Мира'.  Паломничество с прак
 икой йоги\nТип события: Путешествие\nСсы
 ка: https://yogasecrets.ru/index.php?option=com_eventlist&view=details&
 id=727:q-q----&Itemid=117\n
DTSTART;VALUE=DATE:20140829
DTEND;VALUE=DATE:20140908
LOCATION:
SUMMARY:'Крыша Мира'.  Паломничество с практи
 ой йоги
URL:https://yogasecrets.ru/index.php?option=com_eventlist&view=details&id=7
 27:q-q----&Itemid=117
END:VEVENT
END:VCALENDAR
