BEGIN:VCALENDAR
CALSCALE:GREGORIAN
METHOD:PUBLISH
PRODID:-//5.199.133.97//NONSGML iCalcreator 2.6//
VERSION:2.0
UNIQUE_ID:event728@Йога секреты
X-WR-TIMEZONE:Asia/Baku
BEGIN:VEVENT
UID:event728@Йога секреты
DTSTAMP:20260422T001358Z
CATEGORIES:Путешествие
DESCRIPTION:Практика йоги в Гималаях. Ришикеш. 
 Индия\nТип события: Путешествие\nСсылка: h
 ttps://yogasecrets.ru/index.php?option=com_eventlist&view=details&id=728:-
 ----&Itemid=117\n
DTSTART;VALUE=DATE:20141010
DTEND;VALUE=DATE:20141022
LOCATION:
SUMMARY:Практика йоги в Гималаях. Ришикеш. Ин
 дия
URL:https://yogasecrets.ru/index.php?option=com_eventlist&view=details&id=7
 28:-----&Itemid=117
END:VEVENT
END:VCALENDAR
