BEGIN:VCALENDAR
CALSCALE:GREGORIAN
METHOD:PUBLISH
PRODID:-//5.199.133.97//NONSGML iCalcreator 2.6//
VERSION:2.0
UNIQUE_ID:event729@Йога секреты
X-WR-TIMEZONE:Asia/Baku
BEGIN:VEVENT
UID:event729@Йога секреты
DTSTAMP:20260422T222232Z
CATEGORIES:Путешествие
DESCRIPTION:Йога-тур ЖЕНСКАЯ ПЕРЕЗАГРУЗКА\nТип
  события: Путешествие\nСсылка: https://yogasecrets
 .ru/index.php?option=com_eventlist&view=details&id=729:---&Itemid=117\n
DTSTART;TZID=Asia/Baku:20140908T070000
DTEND;TZID=Asia/Baku:20140914T210000
LOCATION:горный курорт Хаджох\,п.Каменномост
 кий\,п.Каменномостский\,Russian Federation
SUMMARY:Йога-тур ЖЕНСКАЯ ПЕРЕЗАГРУЗКА
URL:https://yogasecrets.ru/index.php?option=com_eventlist&view=details&id=7
 29:---&Itemid=117
END:VEVENT
END:VCALENDAR
