BEGIN:VCALENDAR
CALSCALE:GREGORIAN
METHOD:PUBLISH
PRODID:-//5.199.133.97//NONSGML iCalcreator 2.6//
VERSION:2.0
UNIQUE_ID:event732@Йога секреты
X-WR-TIMEZONE:Asia/Baku
BEGIN:VEVENT
UID:event732@Йога секреты
DTSTAMP:20260422T001702Z
CATEGORIES:Путешествие
DESCRIPTION:Путешествие в Непал 'Вдохновение Г
 ималаев' - Йога в Действии\nТип события: П
 тешествие\nСсылка: https://yogasecrets.ru/index.php?option
 =com_eventlist&view=details&id=732:---q-q---&Itemid=117\n
DTSTART;VALUE=DATE:20141020
DTEND;VALUE=DATE:20141108
LOCATION:
SUMMARY:Путешествие в Непал 'Вдохновение Гим
 алаев' - Йога в Действии
URL:https://yogasecrets.ru/index.php?option=com_eventlist&view=details&id=7
 32:---q-q---&Itemid=117
END:VEVENT
END:VCALENDAR
