BEGIN:VCALENDAR
CALSCALE:GREGORIAN
METHOD:PUBLISH
PRODID:-//5.199.133.97//NONSGML iCalcreator 2.6//
VERSION:2.0
UNIQUE_ID:event740@Йога секреты
X-WR-TIMEZONE:Asia/Baku
BEGIN:VEVENT
UID:event740@Йога секреты
DTSTAMP:20260422T220249Z
CATEGORIES:Путешествие
DESCRIPTION:New Year LUXURYoga на Сейшелах\nТип события
 : Путешествие\nСсылка: https://yogasecrets.ru/index.php?o
 ption=com_eventlist&view=details&id=740:new-year-luxuryoga--&Itemid=117\n
DTSTART;VALUE=DATE:20141229
DTEND;VALUE=DATE:20150105
LOCATION:о. Маэ\, Сейешельские острова\,Seychelles
SUMMARY:New Year LUXURYoga на Сейшелах
URL:https://yogasecrets.ru/index.php?option=com_eventlist&view=details&id=7
 40:new-year-luxuryoga--&Itemid=117
END:VEVENT
END:VCALENDAR
