BEGIN:VCALENDAR
CALSCALE:GREGORIAN
METHOD:PUBLISH
PRODID:-//5.199.133.97//NONSGML iCalcreator 2.6//
VERSION:2.0
UNIQUE_ID:event741@Йога секреты
X-WR-TIMEZONE:Asia/Baku
BEGIN:VEVENT
UID:event741@Йога секреты
DTSTAMP:20260422T220249Z
CATEGORIES:Путешествие
DESCRIPTION:LUXURYoga  на Сейшельских островах\nТип
  события: Путешествие\nСсылка: https://yogasecrets
 .ru/index.php?option=com_eventlist&view=details&id=741:luxuryoga---&Itemid
 =117\n
DTSTART;VALUE=DATE:20150104
DTEND;VALUE=DATE:20150118
LOCATION:о. Маэ\, Сейешельские острова\,Seychelles
SUMMARY:LUXURYoga  на Сейшельских островах
URL:https://yogasecrets.ru/index.php?option=com_eventlist&view=details&id=7
 41:luxuryoga---&Itemid=117
END:VEVENT
END:VCALENDAR
