BEGIN:VCALENDAR
CALSCALE:GREGORIAN
METHOD:PUBLISH
PRODID:-//5.199.133.97//NONSGML iCalcreator 2.6//
VERSION:2.0
UNIQUE_ID:event753@Йога секреты
X-WR-TIMEZONE:Asia/Baku
BEGIN:VEVENT
UID:event753@Йога секреты
DTSTAMP:20260422T013946Z
CATEGORIES:Путешествие
DESCRIPTION:Паломнический Йога-тур в Камбоджу:
  Живое и Вечное\nТип события: Путешествие
 \nСсылка: https://yogasecrets.ru/index.php?option=com_eventlist&view
 =details&id=753:-------&Itemid=117\n
DTSTART;VALUE=DATE:20141030
DTEND;VALUE=DATE:20141111
LOCATION:
SUMMARY:Паломнический Йога-тур в Камбоджу: Ж
 вое и Вечное
URL:https://yogasecrets.ru/index.php?option=com_eventlist&view=details&id=7
 53:-------&Itemid=117
END:VEVENT
END:VCALENDAR
