BEGIN:VCALENDAR
CALSCALE:GREGORIAN
METHOD:PUBLISH
PRODID:-//5.199.133.97//NONSGML iCalcreator 2.6//
VERSION:2.0
UNIQUE_ID:event755@Йога секреты
X-WR-TIMEZONE:Asia/Baku
BEGIN:VEVENT
UID:event755@Йога секреты
DTSTAMP:20260422T001355Z
CATEGORIES:Путешествие
DESCRIPTION:ДРЕВНИЕ МЕСТА СИЛЫ ГИМАЛАЕВ: ЗАГАД
 ОЧНЫЙ МУСТАНГ / НЕПАЛ\nТип события: Путеш
 ствие\nСсылка: https://yogasecrets.ru/index.php?option=com_eve
 ntlist&view=details&id=755:-------&Itemid=117\n
DTSTART;VALUE=DATE:20141012
DTEND;VALUE=DATE:20141027
LOCATION:
SUMMARY:ДРЕВНИЕ МЕСТА СИЛЫ ГИМАЛАЕВ: ЗАГАДОЧ
 НЫЙ МУСТАНГ / НЕПАЛ
URL:https://yogasecrets.ru/index.php?option=com_eventlist&view=details&id=7
 55:-------&Itemid=117
END:VEVENT
END:VCALENDAR
