BEGIN:VCALENDAR
CALSCALE:GREGORIAN
METHOD:PUBLISH
PRODID:-//5.199.133.97//NONSGML iCalcreator 2.6//
VERSION:2.0
UNIQUE_ID:event756@Йога секреты
X-WR-TIMEZONE:Asia/Baku
BEGIN:VEVENT
UID:event756@Йога секреты
DTSTAMP:20260422T013831Z
CATEGORIES:Путешествие
DESCRIPTION:ДХАРМА-ТУР В НЕПАЛ: СВЯТЫЕ МЕСТА ТИ
 БЕТСКОГО БУДДИЗМА\nТип события: Путешест
 вие\nСсылка: https://yogasecrets.ru/index.php?option=com_eventlis
 t&view=details&id=756:-------&Itemid=117\n
DTSTART;VALUE=DATE:20141108
DTEND;VALUE=DATE:20141125
LOCATION:
SUMMARY:ДХАРМА-ТУР В НЕПАЛ: СВЯТЫЕ МЕСТА ТИБЕ
 ТСКОГО БУДДИЗМА
URL:https://yogasecrets.ru/index.php?option=com_eventlist&view=details&id=7
 56:-------&Itemid=117
END:VEVENT
END:VCALENDAR
