BEGIN:VCALENDAR
CALSCALE:GREGORIAN
METHOD:PUBLISH
PRODID:-//5.199.133.97//NONSGML iCalcreator 2.6//
VERSION:2.0
UNIQUE_ID:event757@Йога секреты
X-WR-TIMEZONE:Asia/Baku
BEGIN:VEVENT
UID:event757@Йога секреты
DTSTAMP:20260422T001759Z
CATEGORIES:Путешествие
DESCRIPTION:ПАЛОМНИЧЕСТВО К СВЯЩЕННОЙ ГОРЕ КА
 ЛАШ: ПУТЬ\, ОЧИЩАЮЩИЙ ДУШУ\nТип события: П
 утешествие\nСсылка: https://yogasecrets.ru/index.php?optio
 n=com_eventlist&view=details&id=757:-------&Itemid=117\n
DTSTART;VALUE=DATE:20140929
DTEND;VALUE=DATE:20141014
LOCATION:
SUMMARY:ПАЛОМНИЧЕСТВО К СВЯЩЕННОЙ ГОРЕ КАЙЛ
 Ш: ПУТЬ\, ОЧИЩАЮЩИЙ ДУШУ
URL:https://yogasecrets.ru/index.php?option=com_eventlist&view=details&id=7
 57:-------&Itemid=117
END:VEVENT
END:VCALENDAR
