BEGIN:VCALENDAR
CALSCALE:GREGORIAN
METHOD:PUBLISH
PRODID:-//5.199.133.97//NONSGML iCalcreator 2.6//
VERSION:2.0
UNIQUE_ID:event759@Йога секреты
X-WR-TIMEZONE:Asia/Baku
BEGIN:VEVENT
UID:event759@Йога секреты
DTSTAMP:20260422T001402Z
CATEGORIES:Путешествие
DESCRIPTION:Йога и отдых на мертвом море\nТип с
 бытия: Путешествие\nСсылка: https://yogasecrets.ru/
 index.php?option=com_eventlist&view=details&id=759:-----&Itemid=117\n
DTSTART;VALUE=DATE:20140914
DTEND;VALUE=DATE:20141003
LOCATION:
SUMMARY:Йога и отдых на мертвом море
URL:https://yogasecrets.ru/index.php?option=com_eventlist&view=details&id=7
 59:-----&Itemid=117
END:VEVENT
END:VCALENDAR
