BEGIN:VCALENDAR
CALSCALE:GREGORIAN
METHOD:PUBLISH
PRODID:-//5.199.133.97//NONSGML iCalcreator 2.6//
VERSION:2.0
UNIQUE_ID:event761@Йога секреты
X-WR-TIMEZONE:Asia/Baku
BEGIN:VEVENT
UID:event761@Йога секреты
DTSTAMP:20260421T121232Z
CATEGORIES:Путешествие
DESCRIPTION:Йога-аюрведа тур «Очищение. Введен
 ие в панчакарму»\nТип события: Путешеств
 е\nСсылка: https://yogasecrets.ru/index.php?option=com_eventlist&v
 iew=details&id=761:---l---r&Itemid=117\n
DTSTART;VALUE=DATE:20150427
DTEND;VALUE=DATE:20150511
LOCATION:Аюрведический центр в Керала 'Алисе
 а'\,India
SUMMARY:Йога-аюрведа тур «Очищение. Введение
  в панчакарму»
URL:https://yogasecrets.ru/index.php?option=com_eventlist&view=details&id=7
 61:---l---r&Itemid=117
END:VEVENT
END:VCALENDAR
