BEGIN:VCALENDAR
CALSCALE:GREGORIAN
METHOD:PUBLISH
PRODID:-//5.199.133.97//NONSGML iCalcreator 2.6//
VERSION:2.0
UNIQUE_ID:event762@Йога секреты
X-WR-TIMEZONE:Asia/Baku
BEGIN:VEVENT
UID:event762@Йога секреты
DTSTAMP:20260421T152758Z
CATEGORIES:Путешествие
DESCRIPTION:«Очищение. Введение в панчакарму» 
 Йога-аюрведа тур в Индию\nТип события: Пу
 ешествие\nСсылка: https://yogasecrets.ru/index.php?option=c
 om_eventlist&view=details&id=762:l---r-----&Itemid=117\n
DTSTART;VALUE=DATE:20150316
DTEND;VALUE=DATE:20150330
LOCATION:Аюрведический центр в Керала 'Алисе
 а'\,India
SUMMARY:«Очищение. Введение в панчакарму» Йо
 га-аюрведа тур в Индию
URL:https://yogasecrets.ru/index.php?option=com_eventlist&view=details&id=7
 62:l---r-----&Itemid=117
END:VEVENT
END:VCALENDAR
