BEGIN:VCALENDAR
CALSCALE:GREGORIAN
METHOD:PUBLISH
PRODID:-//5.199.133.97//NONSGML iCalcreator 2.6//
VERSION:2.0
UNIQUE_ID:event764@Йога секреты
X-WR-TIMEZONE:Asia/Baku
BEGIN:VEVENT
UID:event764@Йога секреты
DTSTAMP:20260422T001538Z
CATEGORIES:Путешествие
DESCRIPTION:Йога-тур 'Женская перезагрузка'\nТи
 п события: Путешествие\nСсылка: https://yogasecre
 ts.ru/index.php?option=com_eventlist&view=details&id=764:--q-q&Itemid=117
 \n
DTSTART;TZID=Asia/Baku:20140921T150000
DTEND;TZID=Asia/Baku:20140926T150000
LOCATION:горный курорт Хаджох\,п.Каменномост
 кий\,п.Каменномостский\,Russian Federation
SUMMARY:Йога-тур 'Женская перезагрузка'
URL:https://yogasecrets.ru/index.php?option=com_eventlist&view=details&id=7
 64:--q-q&Itemid=117
END:VEVENT
END:VCALENDAR
